BEGIN:VCALENDAR
VERSION:2.0
PRODID:-//wp-events-plugin.com//7.2.3.1//EN
TZID:Europe/Copenhagen
X-WR-TIMEZONE:Europe/Copenhagen
BEGIN:VEVENT
UID:399@jazz6000.dk
DTSTART;TZID=Europe/Copenhagen:20260430T200000
DTEND;TZID=Europe/Copenhagen:20260430T220000
DTSTAMP:20260424T054803Z
URL:https://jazz6000.dk/arrangementer/thomas-fonnesbaek-justin-kauflin/
SUMMARY:Thomas Fonnesbæk & Justin Kauflin
DESCRIPTION:KONCERTEN ER SPONSORERET AF EWII\n\nJazz gør verden til et bed
 re sted. Derfor markerer vi den af Herbie Hancock og UNESCO indstiftede In
 ternatonal Jazz Day med en koncert med den verdenskendte duo Fonnesbæk &a
 mp\; Kauflin. De har forfinet deres musikalske samtale gennem 10 år og ud
 givet 4 magiske albums. Verdens førende jazzmagasin All About Jazz har\ng
 ivet duoen ikke mindre end bemærkelsesværdige 4\,5 af fem stjerner. Så 
 der kan ikke være tvivl om\, at der venter en stjerneklar aften på Godse
 t\, hvor de spiller den 30. april klokken 20.00.\n\nDet amerikanske klaver
 vidunder Justin Kauflin har for længst skabt sig en stor fanskare verden 
 over. Han blev som helt ung taget under vingerne af den legendariske produ
 cer Quincy Jones og spiller som sin nu afdøde læremester så englene syn
 ger. Sammen med den danske stjernebassist Thomas Fonnesbæk\, der har turn
 eret\nverden tynd og er kendt for sine samarbejder med bl.a. Enrico Pieran
 unzi\, Lars Jansson\, Sinne Eeg\, Aaron Parks og mange andre\, opstår der
  stor musikalsk skønhed i hvert et anslag – uanset om de rækker ud eft
 er jazzens helt store mastodonter som fx Oscar Peterson\, Bill Evans\, Mic
 hel Petruciani\, Brad Meldau\, Niels-Hen-\nning-Ørsted-Petersen og Roy Ha
 ynes – eller spiller nogle af deres egne internationale hits. Det bliver
  en aften i selskab med en verdenskendt superduo.\n\nKoncerten indgår i v
 ores koncertrække The Kolding Concerts\, som markerer\, at Jazz6000 har e
 rhvervet et nyt flygel i verdensklasse.\n\nLyt til musikken her:\n\n\n\nL
 æs mere om Thomas Fonnesbæk her:\nhttps://www.thomasfonnesbaek.dk/\n\nL
 æs mere om Justin Kauflin her:\nhttps://www.justinkauflin.com/
ATTACH;FMTTYPE=image/jpeg:https://jazz6000.dk/wp-content/uploads/2025/11/J
 ustin-kauflin_thomas-fonnesbaek_DSC08347_sh.jpg
CATEGORIES:Koncert
LOCATION:Godset\, Jens Holms Vej 5\, Kolding\, 6000\, Denmark
GEO:55.49092899999999;9.483085999999957
X-APPLE-STRUCTURED-LOCATION;VALUE=URI;X-ADDRESS=Jens Holms Vej 5\, Kolding\
 , 6000\, Denmark;X-APPLE-RADIUS=100;X-TITLE=Godset:geo:55.49092899999999,9
 .483085999999957
END:VEVENT
BEGIN:VTIMEZONE
TZID:Europe/Copenhagen
X-LIC-LOCATION:Europe/Copenhagen
BEGIN:DAYLIGHT
DTSTART:20260329T030000
TZOFFSETFROM:+0100
TZOFFSETTO:+0200
TZNAME:CEST
END:DAYLIGHT
END:VTIMEZONE
END:VCALENDAR